BEGIN:VCALENDAR
VERSION:2.0
PRODID:-//Concòrdia - ECPv6.15.20//NONSGML v1.0//EN
CALSCALE:GREGORIAN
METHOD:PUBLISH
X-ORIGINAL-URL:https://concordia.ad
X-WR-CALDESC:Esdeveniments per Concòrdia
REFRESH-INTERVAL;VALUE=DURATION:PT1H
X-Robots-Tag:noindex
X-PUBLISHED-TTL:PT1H
BEGIN:VTIMEZONE
TZID:Europe/Paris
BEGIN:DAYLIGHT
TZOFFSETFROM:+0100
TZOFFSETTO:+0200
TZNAME:CEST
DTSTART:20230326T010000
END:DAYLIGHT
BEGIN:STANDARD
TZOFFSETFROM:+0200
TZOFFSETTO:+0100
TZNAME:CET
DTSTART:20231029T010000
END:STANDARD
BEGIN:DAYLIGHT
TZOFFSETFROM:+0100
TZOFFSETTO:+0200
TZNAME:CEST
DTSTART:20240331T010000
END:DAYLIGHT
BEGIN:STANDARD
TZOFFSETFROM:+0200
TZOFFSETTO:+0100
TZNAME:CET
DTSTART:20241027T010000
END:STANDARD
BEGIN:DAYLIGHT
TZOFFSETFROM:+0100
TZOFFSETTO:+0200
TZNAME:CEST
DTSTART:20250330T010000
END:DAYLIGHT
BEGIN:STANDARD
TZOFFSETFROM:+0200
TZOFFSETTO:+0100
TZNAME:CET
DTSTART:20251026T010000
END:STANDARD
END:VTIMEZONE
BEGIN:VEVENT
DTSTART;TZID=Europe/Paris:20240306T163000
DTEND;TZID=Europe/Paris:20240306T173000
DTSTAMP:20260423T040019
CREATED:20240306T124939Z
LAST-MODIFIED:20240306T124941Z
UID:7612-1709742600-1709746200@concordia.ad
SUMMARY:Declaracions RTVA sobre comissió d’Enquesta
DESCRIPTION:
URL:https://concordia.ad/esdeveniment/declaracions-rtva-sobre-comissio-denquesta/
CATEGORIES:Roda de premsa
END:VEVENT
BEGIN:VEVENT
DTSTART;TZID=Europe/Paris:20240311T110000
DTEND;TZID=Europe/Paris:20240311T120000
DTSTAMP:20260423T040019
CREATED:20240311T095620Z
LAST-MODIFIED:20240311T095804Z
UID:7653-1710154800-1710158400@concordia.ad
SUMMARY:Roda de premsa Grup Parlamentari
DESCRIPTION:Pots seguir-la a: https://www.youtube.com/watch?v=0nKiGrS1_l8
URL:https://concordia.ad/esdeveniment/roda-de-premsa-grup-parlamentari/
CATEGORIES:Roda de premsa
END:VEVENT
END:VCALENDAR