BEGIN:VCALENDAR
VERSION:2.0
PRODID:-//Concòrdia - ECPv6.15.20//NONSGML v1.0//EN
CALSCALE:GREGORIAN
METHOD:PUBLISH
X-ORIGINAL-URL:https://concordia.ad
X-WR-CALDESC:Esdeveniments per Concòrdia
REFRESH-INTERVAL;VALUE=DURATION:PT1H
X-Robots-Tag:noindex
X-PUBLISHED-TTL:PT1H
BEGIN:VTIMEZONE
TZID:Europe/Paris
BEGIN:DAYLIGHT
TZOFFSETFROM:+0100
TZOFFSETTO:+0200
TZNAME:CEST
DTSTART:20240331T010000
END:DAYLIGHT
BEGIN:STANDARD
TZOFFSETFROM:+0200
TZOFFSETTO:+0100
TZNAME:CET
DTSTART:20241027T010000
END:STANDARD
BEGIN:DAYLIGHT
TZOFFSETFROM:+0100
TZOFFSETTO:+0200
TZNAME:CEST
DTSTART:20250330T010000
END:DAYLIGHT
BEGIN:STANDARD
TZOFFSETFROM:+0200
TZOFFSETTO:+0100
TZNAME:CET
DTSTART:20251026T010000
END:STANDARD
BEGIN:DAYLIGHT
TZOFFSETFROM:+0100
TZOFFSETTO:+0200
TZNAME:CEST
DTSTART:20260329T010000
END:DAYLIGHT
BEGIN:STANDARD
TZOFFSETFROM:+0200
TZOFFSETTO:+0100
TZNAME:CET
DTSTART:20261025T010000
END:STANDARD
END:VTIMEZONE
BEGIN:VEVENT
DTSTART;TZID=Europe/Paris:20250922T090000
DTEND;TZID=Europe/Paris:20250922T100000
DTSTAMP:20260423T162316
CREATED:20251002T105121Z
LAST-MODIFIED:20251002T105121Z
UID:10148-1758531600-1758535200@concordia.ad
SUMMARY:Entrevista Pol Bartolomé a RNA (Avui serà un bon dia)
DESCRIPTION:
URL:https://concordia.ad/esdeveniment/entrevista-pol-bartolome-a-rna-avui-sera-un-bon-dia/
CATEGORIES:Entrevistes
END:VEVENT
BEGIN:VEVENT
DTSTART;TZID=Europe/Paris:20250922T200000
DTEND;TZID=Europe/Paris:20250922T210000
DTSTAMP:20260423T162316
CREATED:20251002T105322Z
LAST-MODIFIED:20251002T105322Z
UID:10150-1758571200-1758574800@concordia.ad
SUMMARY:Entrevista Cerni Escalé a Diari TV (Parlem-ne)
DESCRIPTION:
URL:https://concordia.ad/esdeveniment/entrevista-cerni-escale-a-diari-tv-parlem-ne/
CATEGORIES:Entrevistes
END:VEVENT
BEGIN:VEVENT
DTSTART;TZID=Europe/Paris:20250925T130000
DTEND;TZID=Europe/Paris:20250925T133000
DTSTAMP:20260423T162316
CREATED:20251002T105439Z
LAST-MODIFIED:20251002T105439Z
UID:10152-1758805200-1758807000@concordia.ad
SUMMARY:Entrevista M. Àngels Aché a Cadena Ser Andorra (Aquí Andorra)
DESCRIPTION:
URL:https://concordia.ad/esdeveniment/entrevista-m-angels-ache-a-cadena-ser-andorra-aqui-andorra/
CATEGORIES:Entrevistes
END:VEVENT
END:VCALENDAR