BEGIN:VCALENDAR
VERSION:2.0
PRODID:-//Concòrdia - ECPv6.15.20//NONSGML v1.0//EN
CALSCALE:GREGORIAN
METHOD:PUBLISH
X-ORIGINAL-URL:https://concordia.ad
X-WR-CALDESC:Esdeveniments per Concòrdia
REFRESH-INTERVAL;VALUE=DURATION:PT1H
X-Robots-Tag:noindex
X-PUBLISHED-TTL:PT1H
BEGIN:VTIMEZONE
TZID:Europe/Paris
BEGIN:DAYLIGHT
TZOFFSETFROM:+0100
TZOFFSETTO:+0200
TZNAME:CEST
DTSTART:20230326T010000
END:DAYLIGHT
BEGIN:STANDARD
TZOFFSETFROM:+0200
TZOFFSETTO:+0100
TZNAME:CET
DTSTART:20231029T010000
END:STANDARD
BEGIN:DAYLIGHT
TZOFFSETFROM:+0100
TZOFFSETTO:+0200
TZNAME:CEST
DTSTART:20240331T010000
END:DAYLIGHT
BEGIN:STANDARD
TZOFFSETFROM:+0200
TZOFFSETTO:+0100
TZNAME:CET
DTSTART:20241027T010000
END:STANDARD
BEGIN:DAYLIGHT
TZOFFSETFROM:+0100
TZOFFSETTO:+0200
TZNAME:CEST
DTSTART:20250330T010000
END:DAYLIGHT
BEGIN:STANDARD
TZOFFSETFROM:+0200
TZOFFSETTO:+0100
TZNAME:CET
DTSTART:20251026T010000
END:STANDARD
END:VTIMEZONE
BEGIN:VEVENT
DTSTART;TZID=Europe/Paris:20240109T140000
DTEND;TZID=Europe/Paris:20240109T150000
DTSTAMP:20260426T061724
CREATED:20240108T111631Z
LAST-MODIFIED:20240108T111634Z
UID:7309-1704808800-1704812400@concordia.ad
SUMMARY:Entrevista Cerni Escalé - RTVA
DESCRIPTION:
URL:https://concordia.ad/esdeveniment/entrevista-cerni-escale-rtva/
CATEGORIES:Entrevistes
END:VEVENT
BEGIN:VEVENT
DTSTART;TZID=Europe/Paris:20240117T170000
DTEND;TZID=Europe/Paris:20240117T180000
DTSTAMP:20260426T061724
CREATED:20240108T111425Z
LAST-MODIFIED:20240108T111429Z
UID:7307-1705510800-1705514400@concordia.ad
SUMMARY:Entrevista Meglena Kuneva CoE
DESCRIPTION:
URL:https://concordia.ad/esdeveniment/entrevista-meglena-kuneva-coe/
CATEGORIES:Entrevistes
END:VEVENT
END:VCALENDAR