BEGIN:VCALENDAR
VERSION:2.0
PRODID:-//Concòrdia - ECPv6.15.20//NONSGML v1.0//EN
CALSCALE:GREGORIAN
METHOD:PUBLISH
X-WR-CALNAME:Concòrdia
X-ORIGINAL-URL:https://concordia.ad
X-WR-CALDESC:Esdeveniments per Concòrdia
REFRESH-INTERVAL;VALUE=DURATION:PT1H
X-Robots-Tag:noindex
X-PUBLISHED-TTL:PT1H
BEGIN:VTIMEZONE
TZID:Europe/Paris
BEGIN:DAYLIGHT
TZOFFSETFROM:+0100
TZOFFSETTO:+0200
TZNAME:CEST
DTSTART:20250330T010000
END:DAYLIGHT
BEGIN:STANDARD
TZOFFSETFROM:+0200
TZOFFSETTO:+0100
TZNAME:CET
DTSTART:20251026T010000
END:STANDARD
BEGIN:DAYLIGHT
TZOFFSETFROM:+0100
TZOFFSETTO:+0200
TZNAME:CEST
DTSTART:20260329T010000
END:DAYLIGHT
BEGIN:STANDARD
TZOFFSETFROM:+0200
TZOFFSETTO:+0100
TZNAME:CET
DTSTART:20261025T010000
END:STANDARD
BEGIN:DAYLIGHT
TZOFFSETFROM:+0100
TZOFFSETTO:+0200
TZNAME:CEST
DTSTART:20270328T010000
END:DAYLIGHT
BEGIN:STANDARD
TZOFFSETFROM:+0200
TZOFFSETTO:+0100
TZNAME:CET
DTSTART:20271031T010000
END:STANDARD
END:VTIMEZONE
BEGIN:VEVENT
DTSTART;TZID=Europe/Paris:20260423T100000
DTEND;TZID=Europe/Paris:20260423T110000
DTSTAMP:20260423T010130
CREATED:20260422T175111Z
LAST-MODIFIED:20260422T175111Z
UID:11032-1776938400-1776942000@concordia.ad
SUMMARY:Fira de Sant Jordi a Sant Julià de Lòria
DESCRIPTION:
URL:https://concordia.ad/esdeveniment/fira-de-sant-jordi-a-sant-julia-de-loria/
CATEGORIES:Actes
END:VEVENT
BEGIN:VEVENT
DTSTART;TZID=Europe/Paris:20260423T120000
DTEND;TZID=Europe/Paris:20260423T130000
DTSTAMP:20260423T010130
CREATED:20260413T100735Z
LAST-MODIFIED:20260413T100735Z
UID:10990-1776945600-1776949200@concordia.ad
SUMMARY:Inauguració Fira de Sant Jordi Andorra la Vella
DESCRIPTION:
URL:https://concordia.ad/esdeveniment/inauguracio-fira-de-sant-jordi-andorra-la-vella-2/
CATEGORIES:Actes
END:VEVENT
END:VCALENDAR