BEGIN:VCALENDAR
VERSION:2.0
PRODID:-//Concòrdia - ECPv6.15.20//NONSGML v1.0//EN
CALSCALE:GREGORIAN
METHOD:PUBLISH
X-WR-CALNAME:Concòrdia
X-ORIGINAL-URL:https://concordia.ad
X-WR-CALDESC:Esdeveniments per Concòrdia
REFRESH-INTERVAL;VALUE=DURATION:PT1H
X-Robots-Tag:noindex
X-PUBLISHED-TTL:PT1H
BEGIN:VTIMEZONE
TZID:Europe/Paris
BEGIN:DAYLIGHT
TZOFFSETFROM:+0100
TZOFFSETTO:+0200
TZNAME:CEST
DTSTART:20230326T010000
END:DAYLIGHT
BEGIN:STANDARD
TZOFFSETFROM:+0200
TZOFFSETTO:+0100
TZNAME:CET
DTSTART:20231029T010000
END:STANDARD
BEGIN:DAYLIGHT
TZOFFSETFROM:+0100
TZOFFSETTO:+0200
TZNAME:CEST
DTSTART:20240331T010000
END:DAYLIGHT
BEGIN:STANDARD
TZOFFSETFROM:+0200
TZOFFSETTO:+0100
TZNAME:CET
DTSTART:20241027T010000
END:STANDARD
BEGIN:DAYLIGHT
TZOFFSETFROM:+0100
TZOFFSETTO:+0200
TZNAME:CEST
DTSTART:20250330T010000
END:DAYLIGHT
BEGIN:STANDARD
TZOFFSETFROM:+0200
TZOFFSETTO:+0100
TZNAME:CET
DTSTART:20251026T010000
END:STANDARD
END:VTIMEZONE
BEGIN:VEVENT
DTSTART;TZID=Europe/Paris:20241027T000000
DTEND;TZID=Europe/Paris:20241029T235959
DTSTAMP:20260425T190326
CREATED:20241015T111525Z
LAST-MODIFIED:20241015T111528Z
UID:8869-1729987200-1730246399@concordia.ad
SUMMARY:COSAC - Budapest
DESCRIPTION:
URL:https://concordia.ad/esdeveniment/cosac-budapest/
CATEGORIES:Activitat parlamentària
END:VEVENT
BEGIN:VEVENT
DTSTART;TZID=Europe/Paris:20241028T183000
DTEND;TZID=Europe/Paris:20241028T203000
DTSTAMP:20260425T190326
CREATED:20240924T085257Z
LAST-MODIFIED:20240924T085259Z
UID:8734-1730140200-1730147400@concordia.ad
SUMMARY:Executiva
DESCRIPTION:
URL:https://concordia.ad/esdeveniment/executiva-2/
CATEGORIES:Reunions
END:VEVENT
END:VCALENDAR